BEGIN:VCALENDAR
VERSION:2.0
PRODID:-//Air Bouz Band - ECPv6.15.20//NONSGML v1.0//EN
CALSCALE:GREGORIAN
METHOD:PUBLISH
X-ORIGINAL-URL:https://airbouzband.fr
X-WR-CALDESC:Évènements pour Air Bouz Band
REFRESH-INTERVAL;VALUE=DURATION:PT1H
X-Robots-Tag:noindex
X-PUBLISHED-TTL:PT1H
BEGIN:VTIMEZONE
TZID:Europe/Paris
BEGIN:DAYLIGHT
TZOFFSETFROM:+0100
TZOFFSETTO:+0200
TZNAME:CEST
DTSTART:20220327T010000
END:DAYLIGHT
BEGIN:STANDARD
TZOFFSETFROM:+0200
TZOFFSETTO:+0100
TZNAME:CET
DTSTART:20221030T010000
END:STANDARD
BEGIN:DAYLIGHT
TZOFFSETFROM:+0100
TZOFFSETTO:+0200
TZNAME:CEST
DTSTART:20230326T010000
END:DAYLIGHT
BEGIN:STANDARD
TZOFFSETFROM:+0200
TZOFFSETTO:+0100
TZNAME:CET
DTSTART:20231029T010000
END:STANDARD
BEGIN:DAYLIGHT
TZOFFSETFROM:+0100
TZOFFSETTO:+0200
TZNAME:CEST
DTSTART:20240331T010000
END:DAYLIGHT
BEGIN:STANDARD
TZOFFSETFROM:+0200
TZOFFSETTO:+0100
TZNAME:CET
DTSTART:20241027T010000
END:STANDARD
END:VTIMEZONE
BEGIN:VEVENT
DTSTART;TZID=Europe/Paris:20231208T183000
DTEND;TZID=Europe/Paris:20231208T223000
DTSTAMP:20260421T023935
CREATED:20231101T095647Z
LAST-MODIFIED:20231111T194225Z
UID:6341-1702060200-1702074600@airbouzband.fr
SUMMARY:Assemblée générale Air Bouz Band 2023
DESCRIPTION:Chers amis pilotes et membres d’Air Bouz Band\, \nJe vous invite à notre Assemblée Générale annuelle \n\nQuand ?\n\nLe vendredi 08 Décembre 2023 à 18h30. (ça c’est l’heure de lancement de la réunion\, merci d’arriver un peu plus tôt pour que l’on démarre bien dans les temps). \n\nOù ?\n\nLa Cocotte Bleue\, 2 boulevard du lac\, 63970 Aydat \n\nComment ?\n\nTu dois t’inscrire via le formulaire ci-dessous. Pour des raisons d’organisation\, la date limite d’inscription est fixée au vendredi 1er décembre 2023 dernier délai. \nCliquer ici pour s’inscrire \nhttps://forms.gle/sTJjZ5NPPg6Hzv8J8\n  \nNous compterons les voix des présents sur place mais si tu ne peux pas te déplacer\, tu peux confier ton vote à un autre membre ABB. Dans ce cas\, il faut remplir et nous transmettre le pouvoir le plus rapidement possible (un membre présent ne peut représenter que 3 personnes maximum). \nPouvoir Assemblée Générale ABB 2023 \nTu souhaites t’investir encore plus activement que comme adhérent ? Des places se libèrent au Comité Directeur\, inutile d’être un champion\, viens t’impliquer dans les décisions du club lors de quelques réunions dans l’année ! Envoie ta candidature à airbouzband@gmail.com 😉 \n  \n\nPourquoi ?\n\nUne assemblée générale est un moment associatif majeur. L’idéal est d’être le plus nombreux possible pour valider les projets 2024 (et respecter le fameux quorum). Mais par ailleurs\, c’est LA rencontre annuelle où les idées\, les désirs peuvent prendre naissance\, s’exprimer et se concrétiser. J’ajoute qu’il est très important que les nouveaux membres soient présents\, c’est l’occasion de faire connaissance en toute convivialité (oui\, ça veut bien dire qu’il y aura à boire et à manger 😉 ). \n\nEt puis c’est tout ?\n\nMais non !! Une vraie rencontre Air Bouz Band n’est pas une vraie rencontre s’il n’y a pas à boire et à manger. Donc à la suite de l’AG\, un buffet dînatoire sera servi. Il est demandé une participation de 15€ / personne (le club prend en charge le solde sur les 25€ demandés par le restaurant). Les accompagnants non licenciés ABB peuvent évidemment venir\, mais moyennant une participation de 25€ / personne (le tout à régler sur place par chèque ou espèces). \n  \nSportivement\, \nLe Président Pascal PERCHAT et les membres du Comité Directeur.
URL:https://airbouzband.fr/eventsabbs/assemblee-generale-air-bouz-band-2023/
LOCATION:La Cocotte Bleue\, 2 boulevard du Lac\, Aydat\, 63970\, France
CATEGORIES:Réunion
ATTACH;FMTTYPE=image/jpeg:https://airbouzband.fr/wp-content/uploads/2023/11/ASSEMBLEE-GENERALE.jpg
END:VEVENT
END:VCALENDAR