BEGIN:VCALENDAR
VERSION:2.0
PRODID:-//Air Bouz Band - ECPv6.15.20//NONSGML v1.0//EN
CALSCALE:GREGORIAN
METHOD:PUBLISH
X-WR-CALNAME:Air Bouz Band
X-ORIGINAL-URL:http://airbouzband.fr
X-WR-CALDESC:Évènements pour Air Bouz Band
REFRESH-INTERVAL;VALUE=DURATION:PT1H
X-Robots-Tag:noindex
X-PUBLISHED-TTL:PT1H
BEGIN:VTIMEZONE
TZID:Europe/Paris
BEGIN:DAYLIGHT
TZOFFSETFROM:+0100
TZOFFSETTO:+0200
TZNAME:CEST
DTSTART:20250330T010000
END:DAYLIGHT
BEGIN:STANDARD
TZOFFSETFROM:+0200
TZOFFSETTO:+0100
TZNAME:CET
DTSTART:20251026T010000
END:STANDARD
BEGIN:DAYLIGHT
TZOFFSETFROM:+0100
TZOFFSETTO:+0200
TZNAME:CEST
DTSTART:20260329T010000
END:DAYLIGHT
BEGIN:STANDARD
TZOFFSETFROM:+0200
TZOFFSETTO:+0100
TZNAME:CET
DTSTART:20261025T010000
END:STANDARD
BEGIN:DAYLIGHT
TZOFFSETFROM:+0100
TZOFFSETTO:+0200
TZNAME:CEST
DTSTART:20270328T010000
END:DAYLIGHT
BEGIN:STANDARD
TZOFFSETFROM:+0200
TZOFFSETTO:+0100
TZNAME:CET
DTSTART:20271031T010000
END:STANDARD
END:VTIMEZONE
BEGIN:VEVENT
DTSTART;VALUE=DATE:20260725
DTEND;VALUE=DATE:20260727
DTSTAMP:20260423T042946
CREATED:20260416T142058Z
LAST-MODIFIED:20260416T142058Z
UID:7656-1784937600-1785110399@airbouzband.fr
SUMMARY:Sancy Paradays 2026
DESCRIPTION:Rencontre amicale de marche et vol organisée par le club Air Bouz Band\, ouverte à tout pilote autonome licencié FFVL équipé obligatoirement d’un parachute de secours et d’une radio. \nAu programme :\nDécouverte des nombreux sites de vol du massif du Sancy accessibles à pied et/ou via les navettes proposées par l’organisation\, dans une ambiance sympathique (il faut toujours prévoir des marches d’approche\, la navette n’arrive jamais aux décos).\nPour les pilotes les plus autonomes\, possibilité de challenge de distance (retour en autonomie ou presque). \nL’objectif est avant tout de passer un agréable week-end dans une ambiance conviviale. \nAucun brevet n’est exigé. Les pilotes doivent cependant être à jour de leur licence FFVL et être autonomes sur les décollages\, en vols\, et sur les atterrissages.\nCette manifestation amicale n’est pas annulée en cas de mauvaise météo. D’autres activités seront proposées par le club\, et les participants seront véhiculés avec les navettes réservées. Samedi soir : soirée et repas en plein air ou sous barnum. \nVous pouvez arriver dès le vendredi directement sur le campement (sur le terrain de l’Auberge). Les propriétaires nous accordent le droit de poser gratuitement la tente ou le camping-car à proximité\, spécialement pour cette manifestation (attention : pas de sanitaires/douches\, pas d’accès individuel à l’électricité\, eau courante accessible\, toilettes sèches sur le campement). \nLieu : le camp de base se situe à côté de l’Auberge des Mancelles\, route du Sancy\, au Mont-Dore (63240). L’auberge est située au cœur du massif du Sancy avec un atterrissage possible au campement\, exceptionnellement.\nhttps://www.auberge-sancy.fr\nhttps://www.sancy.com \nTarifs :\n65 € le week-end pour les volants\, (20€ pour les accompagnants qui souhaitent manger avec nous le samedi soir). Ce prix inclut l’organisation\, les petits-déjeuners et casses-croutes du samedi et du dimanche\, l’apéro et le repas du samedi soir\, les navettes\, les récup\, un petit quelque chose\, et la bonne ambiance…\nLe repas du samedi soir est fourni par l’auberge des Mancelles. Nous demandons aux participants de s’inscrire pour le week-end complet et non à la journée. Nous considérons donc que tout le monde vient au repas. \nINSCRIPTION OBLIGATOIRE SUR LE SITE DE LA FFVL \nEtape 1 : se connecter à l’intranet FFVL (sinon vous tournez en rond et ça rend fou !) \nEtape 2 : compléter le formulaire FFVL https://parapente.ffvl.fr/compet/4999 \nA bientôt sur nos terres Auvergnates.
URL:http://airbouzband.fr/eventsabbs/sancy-paradays-2026/
LOCATION:Pontauzy\, 63240 Le Mont-Dore\, Pontauzy\, Le Mont-Dore\, 63240\, France
ATTACH;FMTTYPE=image/jpeg:http://airbouzband.fr/wp-content/uploads/2026/04/Affiche-Sancy-Paradays-2026-e1776349076381.jpg
ORGANIZER;CN="Air Bouz Band":MAILTO:airbouzband@gmail.com
END:VEVENT
END:VCALENDAR