BEGIN:VCALENDAR
VERSION:2.0
PRODID:-//Air Bouz Band - ECPv6.15.20//NONSGML v1.0//EN
CALSCALE:GREGORIAN
METHOD:PUBLISH
X-WR-CALNAME:Air Bouz Band
X-ORIGINAL-URL:http://airbouzband.fr
X-WR-CALDESC:Évènements pour Air Bouz Band
REFRESH-INTERVAL;VALUE=DURATION:PT1H
X-Robots-Tag:noindex
X-PUBLISHED-TTL:PT1H
BEGIN:VTIMEZONE
TZID:Europe/Paris
BEGIN:DAYLIGHT
TZOFFSETFROM:+0100
TZOFFSETTO:+0200
TZNAME:CEST
DTSTART:20250330T010000
END:DAYLIGHT
BEGIN:STANDARD
TZOFFSETFROM:+0200
TZOFFSETTO:+0100
TZNAME:CET
DTSTART:20251026T010000
END:STANDARD
BEGIN:DAYLIGHT
TZOFFSETFROM:+0100
TZOFFSETTO:+0200
TZNAME:CEST
DTSTART:20260329T010000
END:DAYLIGHT
BEGIN:STANDARD
TZOFFSETFROM:+0200
TZOFFSETTO:+0100
TZNAME:CET
DTSTART:20261025T010000
END:STANDARD
BEGIN:DAYLIGHT
TZOFFSETFROM:+0100
TZOFFSETTO:+0200
TZNAME:CEST
DTSTART:20270328T010000
END:DAYLIGHT
BEGIN:STANDARD
TZOFFSETFROM:+0200
TZOFFSETTO:+0100
TZNAME:CET
DTSTART:20271031T010000
END:STANDARD
END:VTIMEZONE
BEGIN:VEVENT
DTSTART;TZID=Europe/Paris:20260202T190000
DTEND;TZID=Europe/Paris:20260202T210000
DTSTAMP:20260423T042825
CREATED:20250928T140156Z
LAST-MODIFIED:20251221T170156Z
UID:7266-1770058800-1770066000@airbouzband.fr
SUMMARY:Soirée thématique – 02 février 2026 : Construire une approche
DESCRIPTION:Retrouvez un animateur du club Air Bouz Band\, chaque premier lundi du mois. Gratuit et sans inscription\, profitez-en ! \nOutre le thème abordé\, c’est aussi l’occasion de rencontrer les autres pilotes\, de partager ses expériences\, ses interrogations… et donc de progresser ! \nLe rendez-vous est donné pour 19 h à la mairie d’Aubière\, dans la salle Amélie Murat. Prévoyez d’arriver un tout petit peu avant l’heure pour rentrer tous ensemble\, car la mairie est fermée au public (sinon\, utilisez l’interphone).
URL:http://airbouzband.fr/eventsabbs/soiree-thematique-02-fevrier-2026-faire-ma-prevision-meteo-et-aerologique/
LOCATION:Mairie Aubière\, Place de l'hôtel de Ville\, Aubière\, 63170\, France
CATEGORIES:Soirée à thème
ATTACH;FMTTYPE=image/jpeg:http://airbouzband.fr/wp-content/uploads/2025/09/Soiree-thematique-02.02.2026-1-e1766336505531.jpg
END:VEVENT
BEGIN:VEVENT
DTSTART;TZID=Europe/Paris:20260215T090000
DTEND;TZID=Europe/Paris:20260215T110000
DTSTAMP:20260423T042825
CREATED:20260129T223358Z
LAST-MODIFIED:20260213T122030Z
UID:7394-1771146000-1771153200@airbouzband.fr
SUMMARY:15.02.2026 - Travail au sol
DESCRIPTION:De quoi s’agit-il ?\nPerfectionner nos techniques de gonflage\, affalement et maniement au sol. Un moniteur est présent pour encadrer le groupe.\n\nC’est quand ?\nHeure\, lieu communiqués aux inscrits le jeudi soir précédent via un groupe WhatsApp.\nEn cas de météo défavorable\, la session est reportée au dimanche matin si l’encadrant est disponible\, sinon elle est annulée.\n  \nÀ qui ça s’adresse ?\n\n\nGroupe de 6 personnes\, premier inscrit\, premier servi (nous contactons chacun pour confirmer -ou non- l’inscription).\nTout niveau de pratique.\nChaque pilote dispose de son matériel : aile\, sellette\, casque (le tout homologué)\, radio chargée (possibilité d’emprunt des radios ABB) et gants.\nRéservé aux adhérents Air Bouz Band ayant leur licence FFVL 2025 à jour.\n\n\n  \nSUR INSCRIPTION : Clic ici pour ouvrir le formulaire
URL:http://airbouzband.fr/eventsabbs/travail-au-sol/
CATEGORIES:Formation pratique
ATTACH;FMTTYPE=image/jpeg:http://airbouzband.fr/wp-content/uploads/2026/01/Seance-travail-au-sol-e1769725960819.jpg
END:VEVENT
END:VCALENDAR