BEGIN:VCALENDAR
VERSION:2.0
PRODID:-//Air Bouz Band - ECPv6.15.20//NONSGML v1.0//EN
CALSCALE:GREGORIAN
METHOD:PUBLISH
X-ORIGINAL-URL:http://airbouzband.fr
X-WR-CALDESC:Évènements pour Air Bouz Band
REFRESH-INTERVAL;VALUE=DURATION:PT1H
X-Robots-Tag:noindex
X-PUBLISHED-TTL:PT1H
BEGIN:VTIMEZONE
TZID:Europe/Paris
BEGIN:DAYLIGHT
TZOFFSETFROM:+0100
TZOFFSETTO:+0200
TZNAME:CEST
DTSTART:20240331T010000
END:DAYLIGHT
BEGIN:STANDARD
TZOFFSETFROM:+0200
TZOFFSETTO:+0100
TZNAME:CET
DTSTART:20241027T010000
END:STANDARD
BEGIN:DAYLIGHT
TZOFFSETFROM:+0100
TZOFFSETTO:+0200
TZNAME:CEST
DTSTART:20250330T010000
END:DAYLIGHT
BEGIN:STANDARD
TZOFFSETFROM:+0200
TZOFFSETTO:+0100
TZNAME:CET
DTSTART:20251026T010000
END:STANDARD
BEGIN:DAYLIGHT
TZOFFSETFROM:+0100
TZOFFSETTO:+0200
TZNAME:CEST
DTSTART:20260329T010000
END:DAYLIGHT
BEGIN:STANDARD
TZOFFSETFROM:+0200
TZOFFSETTO:+0100
TZNAME:CET
DTSTART:20261025T010000
END:STANDARD
END:VTIMEZONE
BEGIN:VEVENT
DTSTART;TZID=Europe/Paris:20251212T180000
DTEND;TZID=Europe/Paris:20251212T223000
DTSTAMP:20260423T075641
CREATED:20251019T165727Z
LAST-MODIFIED:20251109T115452Z
UID:7273-1765562400-1765578600@airbouzband.fr
SUMMARY:Assemblée générale Air Bouz Band
DESCRIPTION:Chers amis pilotes et membres d’Air Bouz Band\, \nJe vous invite à notre Assemblée Générale annuelle du club. \nAu cours de cette soirée\, nous vous présenterons un bilan des actions\, mais aussi les projets envisagés pour l’année à venir. Nous prévoyons aussi de diffuser les photos gagnantes du concours 2025\, de vous parler de l’Air Bouz Rando Vol\, de vous montrer le vario « fait maison » par notre team de super-bricoleurs\, de vous exposer les intérêts du livetracking… Bref\, ce sera riche et ça se termine par un délicieux buffet dinatoire ! \nC’est une soirée conviviale qui permet de passer du temps avec les copains-copines pilotes\, alors inscrivez-vous ! \nFORMULAIRE D’INSCRIPTION – CLIC ICI \nC’est quand ? \nLe vendredi 12 décembre 2025 à 18h30. (ça c’est l’heure de lancement de la réunion\, merci d’arriver un peu plus tôt pour que l’on démarre bien dans les temps). \nC’est où ? \nSalle communale de Fohet\, 9 rue des Tilleuls à Fohet (commune d’Aydat) \nC’est combien ? \nOn demande 10 € de participation par pilote pour le buffet dinatoire préparé par Céline de « La Fabrique Gourmande » (en sachant qu’il coûte le double\, le club prend en charge la moitié du buffet par personne). \n  \nTu ne peux pas venir ? Alors complète le pouvoir ci-joint pour participer au quota de votes malgré tout : \nPouvoir Assemblée Générale ABB 2025 \n 
URL:http://airbouzband.fr/eventsabbs/assemblee-generale-air-bouz-band-2/
LOCATION:Salle communale de Fohet\, 9 place des Tilleuls\, Aydat\, 63970\, France
CATEGORIES:Réunion
ATTACH;FMTTYPE=image/jpeg:http://airbouzband.fr/wp-content/uploads/2024/10/Couv-AG-ABB-2024-e1760892495539.jpg
END:VEVENT
END:VCALENDAR