BEGIN:VCALENDAR
VERSION:2.0
PRODID:-//Air Bouz Band - ECPv6.15.20//NONSGML v1.0//EN
CALSCALE:GREGORIAN
METHOD:PUBLISH
X-ORIGINAL-URL:http://airbouzband.fr
X-WR-CALDESC:Évènements pour Air Bouz Band
REFRESH-INTERVAL;VALUE=DURATION:PT1H
X-Robots-Tag:noindex
X-PUBLISHED-TTL:PT1H
BEGIN:VTIMEZONE
TZID:Europe/Paris
BEGIN:DAYLIGHT
TZOFFSETFROM:+0100
TZOFFSETTO:+0200
TZNAME:CEST
DTSTART:20240331T010000
END:DAYLIGHT
BEGIN:STANDARD
TZOFFSETFROM:+0200
TZOFFSETTO:+0100
TZNAME:CET
DTSTART:20241027T010000
END:STANDARD
BEGIN:DAYLIGHT
TZOFFSETFROM:+0100
TZOFFSETTO:+0200
TZNAME:CEST
DTSTART:20250330T010000
END:DAYLIGHT
BEGIN:STANDARD
TZOFFSETFROM:+0200
TZOFFSETTO:+0100
TZNAME:CET
DTSTART:20251026T010000
END:STANDARD
BEGIN:DAYLIGHT
TZOFFSETFROM:+0100
TZOFFSETTO:+0200
TZNAME:CEST
DTSTART:20260329T010000
END:DAYLIGHT
BEGIN:STANDARD
TZOFFSETFROM:+0200
TZOFFSETTO:+0100
TZNAME:CET
DTSTART:20261025T010000
END:STANDARD
END:VTIMEZONE
BEGIN:VEVENT
DTSTART;VALUE=DATE:20250719
DTEND;VALUE=DATE:20250721
DTSTAMP:20260423T162525
CREATED:20250215T173301Z
LAST-MODIFIED:20250309T122648Z
UID:7146-1752883200-1753055999@airbouzband.fr
SUMMARY:Sancy Paradays 2025
DESCRIPTION:Rencontre amicale organisée par Air Bouz Band\, ouverte à tout pilote autonome licencié FFVL équipé obligatoirement d’un parachute de secours et d’une radio. \nAu programme :\nDécouverte des nombreux sites de vol du massif du Sancy accessibles à pied et/ou via les navettes proposées par l’organisation\, dans une ambiance sympathique (il faut toujours prévoir des marches d’approche\, la navette n’arrive jamais aux décos).\nPour les pilotes les plus autonomes\, possibilité de challenge de distance (retour en autonomie). \nL’objectif est avant tout de passer un agréable week-end dans une ambiance conviviale. \nCette manifestation amicale n’est pas annulée en cas de mauvaise météo. D’autres activités seront proposées par le club\, et les participants seront véhiculés avec les navettes réservées. Samedi soir : soirée et repas en plein air ou sous barnum. \nVous pouvez arriver dès le vendredi directement sur le campement (sur le terrain de l’Auberge). Les propriétaires nous accordent le droit de poser gratuitement la tente ou le camping-car à proximité spécialement pour cette manifestation (attention : pas de sanitaires/douches\, pas d’accès individuel à l’électricité\, eau courante accessible\, toilettes sèches sur le campement). \nLieu : le camp de base se situe à côté de l’Auberge des Mancelles\, route du Sancy\, au Mont-Dore (63240). L’auberge est située au cœur du massif du Sancy avec un atterrissage possible au campement. \nTarifs :\n30 € le week-end pour les volants\, 15 € pour les non-volants. Ce prix inclut l’organisation\, le petit-déjeuner du dimanche\, les navettes\, les récup\, l’apéro du samedi soir.\n16\,50 € / personne pour le repas du samedi soir fourni par l’auberge des Mancelles. Nous demandons aux participants de s’inscrire pour le week-end complet et non à la journée. Nous considérons donc que tout le monde vient au repas.\nPossibilité d’achat de sandwichs pour les déjeuners\, sur commande préalable (3 € / sandwich / jour). \n  \nINSCRIPTIONS sur le site de la FFVL. Attention c’est un chouïa tordu : il faut D’ABORD te connecter à ton intranet FFVL et seulement APRÈS\, tu peux cliquer sur le lien ci-dessous\, tu verras l’onglet vers l’inscription. \nhttps://parapente.ffvl.fr/compet/4755
URL:http://airbouzband.fr/eventsabbs/sancy-paradays-2025/
CATEGORIES:Compétition,Rencontres
ATTACH;FMTTYPE=image/jpeg:http://airbouzband.fr/wp-content/uploads/2025/02/Affiche-SANCY-PARADAYS-2025-e1740242057106.jpg
END:VEVENT
END:VCALENDAR