BEGIN:VCALENDAR
VERSION:2.0
PRODID:-//Air Bouz Band - ECPv6.15.20//NONSGML v1.0//EN
CALSCALE:GREGORIAN
METHOD:PUBLISH
X-WR-CALNAME:Air Bouz Band
X-ORIGINAL-URL:http://airbouzband.fr
X-WR-CALDESC:Évènements pour Air Bouz Band
REFRESH-INTERVAL;VALUE=DURATION:PT1H
X-Robots-Tag:noindex
X-PUBLISHED-TTL:PT1H
BEGIN:VTIMEZONE
TZID:Europe/Paris
BEGIN:DAYLIGHT
TZOFFSETFROM:+0100
TZOFFSETTO:+0200
TZNAME:CEST
DTSTART:20240331T010000
END:DAYLIGHT
BEGIN:STANDARD
TZOFFSETFROM:+0200
TZOFFSETTO:+0100
TZNAME:CET
DTSTART:20241027T010000
END:STANDARD
BEGIN:DAYLIGHT
TZOFFSETFROM:+0100
TZOFFSETTO:+0200
TZNAME:CEST
DTSTART:20250330T010000
END:DAYLIGHT
BEGIN:STANDARD
TZOFFSETFROM:+0200
TZOFFSETTO:+0100
TZNAME:CET
DTSTART:20251026T010000
END:STANDARD
BEGIN:DAYLIGHT
TZOFFSETFROM:+0100
TZOFFSETTO:+0200
TZNAME:CEST
DTSTART:20260329T010000
END:DAYLIGHT
BEGIN:STANDARD
TZOFFSETFROM:+0200
TZOFFSETTO:+0100
TZNAME:CET
DTSTART:20261025T010000
END:STANDARD
END:VTIMEZONE
BEGIN:VEVENT
DTSTART;TZID=Europe/Paris:20250106T190000
DTEND;TZID=Europe/Paris:20250106T210000
DTSTAMP:20260424T014224
CREATED:20241012T103240Z
LAST-MODIFIED:20241118T205602Z
UID:6866-1736190000-1736197200@airbouzband.fr
SUMMARY:Soirée thématique "MétéoBlue Point+"
DESCRIPTION:Retrouvez un animateur du club Air Bouz Band\, chaque premier lundi du mois\, jusqu’en juin 2025. \nLe thème de cette soirée : apprenez et comprenez le potentiel de MétéoBlue Point+ dont vous bénéficiez en tant qu’adhérent Air Bouz Band. \nGratuit et sans inscription\, profitez-en ! Outre le thème abordé\, c’est aussi l’occasion de rencontrer les autres pilotes\, de partager ses expériences\, ses interrogations… et donc de progresser ! \nLe rendez-vous est donné pour 19h à la mairie d’Aubière\, dans la salle Amélie Murat. Prévoyez d’arriver à l’heure (sinon utilisez l’interphone)
URL:http://airbouzband.fr/eventsabbs/soiree-thematique-4/
LOCATION:Mairie Aubière\, Place de l'hôtel de Ville\, Aubière\, 63170\, France
CATEGORIES:Soirée à thème
ATTACH;FMTTYPE=image/jpeg:http://airbouzband.fr/wp-content/uploads/2024/10/Soiree-MeteoBlue-.jpg
END:VEVENT
BEGIN:VEVENT
DTSTART;TZID=Europe/Paris:20250118T000000
DTEND;TZID=Europe/Paris:20250118T000000
DTSTAMP:20260424T014224
CREATED:20250115T184509Z
LAST-MODIFIED:20250115T184509Z
UID:7092-1737158400-1737158400@airbouzband.fr
SUMMARY:Travail de la voile au sol
DESCRIPTION:De quoi s’agit-il ?\nPerfectionner nos techniques de gonflage\, affalement et maniement au sol. Un moniteur est présent pour encadrer le groupe.\n\nC’est quand ?\nLe troisième samedi matin de chaque mois\, sauf juillet-août\, pendant 2h à 2h30.\nHeure\, lieu communiqués aux inscrits le jeudi soir précédent via un groupe WhatsApp.\nEn cas de météo défavorable\, la session est reportée au dimanche matin si l’encadrant est disponible\, sinon elle est annulée.\n  \nÀ qui ça s’adresse ?\n\n\nGroupe  de 6 personnes\, premier inscrit\, premier servi (nous contactons chacun pour confirmer -ou non- l’inscription).\nTout niveau de pratique.\nChaque pilote dispose de son matériel : aile\, sellette\, casque (le tout homologué)\, radio chargée (possibilité d’emprunt des radios ABB) et gants.\nRéservé aux adhérents Air Bouz Band ayant leur licence FFVL 2025 à jour.\n\n\n  \nSUR INSCRIPTION : Clic ici pour ouvrir le formulaire \nhttps://forms.gle/3JLBXbCBYqf6Ln8t9
URL:http://airbouzband.fr/eventsabbs/travail-de-la-voile-au-sol-12/
CATEGORIES:Formation pratique
ATTACH;FMTTYPE=image/jpeg:http://airbouzband.fr/wp-content/uploads/2023/12/Copie-de-Formation-en-plein-air-1-e1702224672646.jpg
END:VEVENT
END:VCALENDAR