BEGIN:VCALENDAR
VERSION:2.0
PRODID:-//Air Bouz Band - ECPv6.15.20//NONSGML v1.0//EN
CALSCALE:GREGORIAN
METHOD:PUBLISH
X-WR-CALNAME:Air Bouz Band
X-ORIGINAL-URL:http://airbouzband.fr
X-WR-CALDESC:Évènements pour Air Bouz Band
REFRESH-INTERVAL;VALUE=DURATION:PT1H
X-Robots-Tag:noindex
X-PUBLISHED-TTL:PT1H
BEGIN:VTIMEZONE
TZID:Europe/Paris
BEGIN:DAYLIGHT
TZOFFSETFROM:+0100
TZOFFSETTO:+0200
TZNAME:CEST
DTSTART:20230326T010000
END:DAYLIGHT
BEGIN:STANDARD
TZOFFSETFROM:+0200
TZOFFSETTO:+0100
TZNAME:CET
DTSTART:20231029T010000
END:STANDARD
BEGIN:DAYLIGHT
TZOFFSETFROM:+0100
TZOFFSETTO:+0200
TZNAME:CEST
DTSTART:20240331T010000
END:DAYLIGHT
BEGIN:STANDARD
TZOFFSETFROM:+0200
TZOFFSETTO:+0100
TZNAME:CET
DTSTART:20241027T010000
END:STANDARD
BEGIN:DAYLIGHT
TZOFFSETFROM:+0100
TZOFFSETTO:+0200
TZNAME:CEST
DTSTART:20250330T010000
END:DAYLIGHT
BEGIN:STANDARD
TZOFFSETFROM:+0200
TZOFFSETTO:+0100
TZNAME:CET
DTSTART:20251026T010000
END:STANDARD
END:VTIMEZONE
BEGIN:VEVENT
DTSTART;VALUE=DATE:20240720
DTEND;VALUE=DATE:20240722
DTSTAMP:20260424T124119
CREATED:20240211T091710Z
LAST-MODIFIED:20240620T173812Z
UID:6554-1721433600-1721606399@airbouzband.fr
SUMMARY:Sancy Paradays 2024
DESCRIPTION:Rencontre amicale de marche et vol\, organisée par Air Bouz Band\, le club de parapente du massif du Sancy\, ouverte à tout pilote autonome licencié FFVL équipé obligatoirement d’un parachute de secours et d’une radio.\nPRE-INSCRIPTIONS sur le site de la FFVL – NOUS VOUS RECONTACTERONS POUR LA VALIDATION DÉFINITIVE AVEC LE RÈGLEMENT. \nAu programme :\nDécouverte des nombreux sites de vol du massif du Sancy accessibles à pied et/ou via les navettes proposées par l’organisation\, dans une ambiance sympathique (il faut toujours prévoir des marches d’approche\, la navette n’arrive jamais aux décos).\nChallenge de distance ou vol libre à chacun. Pour pilotes autonomes. \nL’objectif est avant tout de passer un agréable week-end dans une ambiance conviviale. Venez en famille\, personne ne le regrettera ! \nCette manifestation amicale n’est pas annulée en cas de mauvaise météo. D’autres activités seront proposées par le club\, et les participants seront véhiculés avec les navettes réservées. Samedi soir : soirée et repas en plein air ou sous barnum. \nVous pouvez arriver dès le vendredi directement sur le campement (sur le terrain de l’Auberge). Les propriétaires nous accordent le droit de poser gratuitement la tente ou le camping-car à proximité spécialement pour cette manifestation (attention : pas de sanitaires/douches\, pas d’accès individuel à l’électricité\, eau courante accessible\, toilettes sèches sur le campement). \nLieu : le camp de base se situe à côté de l’Auberge des Mancelles\, route du Sancy\, au Mont-Dore (63240). L’auberge est située au cœur du massif du Sancy avec un atterrissage possible au campement. \nAuberge de montagne et location d’appartement \n\nhttps://www.sancy.com \nTarif :\n30€ le week-end pour les volants (+ 5€ si la réservation nous arrive moins de 8 jours avant la manifestation)\, 15€ pour les non-volants. Ce prix inclut l’organisation\, le petit-déjeuner du dimanche\, les navettes\, les récup\, l’apéro du samedi soir.\n16€ / personne pour le repas du samedi soir fourni par l’auberge des Mancelles. Nous demandons aux participants de s’inscrire pour le week-end complet et non à la journée. Nous considérons donc que tout le monde vient au repas.\nPossibilité d’achat de sandwichs pour les déjeuners\, sur commande préalable (3€ / sandwich / jour). \nPRE-INSCRIPTIONS sur le site de la FFVL – NOUS VOUS RECONTACTERONS POUR LA VALIDATION DÉFINITIVE AVEC LE RÈGLEMENT.
URL:http://airbouzband.fr/eventsabbs/sancy-paradays-2024/
LOCATION:Massif du Sancy
CATEGORIES:Rencontres
ATTACH;FMTTYPE=image/jpeg:http://airbouzband.fr/wp-content/uploads/2024/02/Affiche_Sancy_paradays_2024-e1718904978598.jpg
END:VEVENT
END:VCALENDAR