BEGIN:VCALENDAR
VERSION:2.0
PRODID:-//Air Bouz Band - ECPv6.15.20//NONSGML v1.0//EN
CALSCALE:GREGORIAN
METHOD:PUBLISH
X-ORIGINAL-URL:http://airbouzband.fr
X-WR-CALDESC:Évènements pour Air Bouz Band
REFRESH-INTERVAL;VALUE=DURATION:PT1H
X-Robots-Tag:noindex
X-PUBLISHED-TTL:PT1H
BEGIN:VTIMEZONE
TZID:Europe/Paris
BEGIN:DAYLIGHT
TZOFFSETFROM:+0100
TZOFFSETTO:+0200
TZNAME:CEST
DTSTART:20230326T010000
END:DAYLIGHT
BEGIN:STANDARD
TZOFFSETFROM:+0200
TZOFFSETTO:+0100
TZNAME:CET
DTSTART:20231029T010000
END:STANDARD
BEGIN:DAYLIGHT
TZOFFSETFROM:+0100
TZOFFSETTO:+0200
TZNAME:CEST
DTSTART:20240331T010000
END:DAYLIGHT
BEGIN:STANDARD
TZOFFSETFROM:+0200
TZOFFSETTO:+0100
TZNAME:CET
DTSTART:20241027T010000
END:STANDARD
BEGIN:DAYLIGHT
TZOFFSETFROM:+0100
TZOFFSETTO:+0200
TZNAME:CEST
DTSTART:20250330T010000
END:DAYLIGHT
BEGIN:STANDARD
TZOFFSETFROM:+0200
TZOFFSETTO:+0100
TZNAME:CET
DTSTART:20251026T010000
END:STANDARD
END:VTIMEZONE
BEGIN:VEVENT
DTSTART;TZID=Europe/Paris:20240204T090000
DTEND;TZID=Europe/Paris:20240204T113000
DTSTAMP:20260424T201925
CREATED:20231210T161235Z
LAST-MODIFIED:20231210T161235Z
UID:6441-1707037200-1707046200@airbouzband.fr
SUMMARY:Travail de la voile au sol
DESCRIPTION:De quoi s’agit-il ?\nSession de travail de la voile au sol : gonflage et maniements. Un moniteur (Dom) est présent pour encadrer le groupe. \nC’est quand ?\nLe dimanche matin\, pendant 2h à 2h30.\nL’heure et le lieu sont communiqués aux inscrits quelques jours avant via un groupe WhatsApp.\nEn cas de mauvaises conditions\, la session est annulée. \nA qui ça s’adresse ?\nGroupe de 6 personnes\, premier inscrit\, premier servi (nous contactons chacun pour confirmer -ou non- l’inscription).\nTout niveau de pratique.\nChaque pilote dispose de son matériel : aile\, sellette\, casque\, radio chargée (le tout homologué) et gants.\nRéservé aux adhérents Air Bouz Band ayant leur licence FFVL 2024 à jour. \nINSCRIPTION OBLIGATOIRE\, CLIQUEZ ICI
URL:http://airbouzband.fr/eventsabbs/travail-de-la-voile-au-sol-8/
CATEGORIES:Formation pratique
ATTACH;FMTTYPE=image/jpeg:http://airbouzband.fr/wp-content/uploads/2023/12/Copie-de-Formation-en-plein-air-1-e1702224672646.jpg
END:VEVENT
BEGIN:VEVENT
DTSTART;TZID=Europe/Paris:20240210T000000
DTEND;TZID=Europe/Paris:20240210T000000
DTSTAMP:20260424T201925
CREATED:20240122T181807Z
LAST-MODIFIED:20240122T181807Z
UID:6515-1707523200-1707523200@airbouzband.fr
SUMMARY:Formation pratique - Lancer et replier mon secours
DESCRIPTION:INSCRIPTION OBLIGATOIRE AU BAS DES EXPLICATIONS\n\nDe quoi s’agit-il ?\nFormation au parachute de secours avec lancer et reconditionnement de son matériel personnel\n+ séance pédagogique animée par Dom’ (car avoir un parachute\, c’est bien\, le connaître\, c’est mieux !).\nApporter :\n* si possible : élastiques adaptés\, morceaux de suspentes ou joncs de rotofil\, poids (type sable\, bouteille d’eau).\n* INDISPENSABLE ! : LE MANUEL CORRESPONDANT A LA MARQUE ET AU MODÈLE DE TON PARACHUTE.\n\n\nC’est quand ?\nLa matinée.\nL’heure et le lieu exacts seront communiqués aux inscrits quelques jours avant via un groupe WhatsApp.\nPas de report possible.\n\nA qui ça s’adresse ?\n\n\nGroupe limité à 6 personnes max (nous contacterons chacun pour confirmer -ou non- l’inscription).\nTout type de secours avec notice constructeur.\nRéservé aux adhérents Air Bouz Band avec licence FFVL 2024.\nLes manipulations sont effectuées a l’initiative\, par et sous la responsabilité de son propriétaire utilisateur.\n\n\nInscription en cliquant ici
URL:http://airbouzband.fr/eventsabbs/formation-pratique-lancer-et-replier-mon-secours/
CATEGORIES:Formation pratique
ATTACH;FMTTYPE=image/jpeg:http://airbouzband.fr/wp-content/uploads/2024/01/Le-secours-e1705947426917.jpg
END:VEVENT
BEGIN:VEVENT
DTSTART;TZID=Europe/Paris:20240211T000000
DTEND;TZID=Europe/Paris:20240211T000000
DTSTAMP:20260424T201925
CREATED:20240122T182049Z
LAST-MODIFIED:20240122T182049Z
UID:6519-1707609600-1707609600@airbouzband.fr
SUMMARY:Formation pratique - Lancer et replier mon secours
DESCRIPTION:INSCRIPTION OBLIGATOIRE AU BAS DES EXPLICATIONS\n\nDe quoi s’agit-il ?\nFormation au parachute de secours avec lancer et reconditionnement de son matériel personnel\n+ séance pédagogique animée par Dom’ (car avoir un parachute\, c’est bien\, le connaître\, c’est mieux !).\nApporter :\n* si possible : élastiques adaptés\, morceaux de suspentes ou joncs de rotofil\, poids (type sable\, bouteille d’eau).\n* INDISPENSABLE ! : LE MANUEL CORRESPONDANT A LA MARQUE ET AU MODÈLE DE TON PARACHUTE.\n\n\nC’est quand ?\nLa matinée.\nL’heure et le lieu exacts seront communiqués aux inscrits quelques jours avant via un groupe WhatsApp.\nPas de report possible.\n\nA qui ça s’adresse ?\n\n\nGroupe limité à 6 personnes max (nous contacterons chacun pour confirmer -ou non- l’inscription).\nTout type de secours avec notice constructeur.\nRéservé aux adhérents Air Bouz Band avec licence FFVL 2024.\nLes manipulations sont effectuées a l’initiative\, par et sous la responsabilité de son propriétaire utilisateur.\n\n\nInscription en cliquant ici
URL:http://airbouzband.fr/eventsabbs/formation-pratique-lancer-et-replier-mon-secours-2/
CATEGORIES:Formation pratique
ATTACH;FMTTYPE=image/jpeg:http://airbouzband.fr/wp-content/uploads/2024/01/Le-secours-e1705947426917.jpg
END:VEVENT
BEGIN:VEVENT
DTSTART;TZID=Europe/Paris:20240214T190000
DTEND;TZID=Europe/Paris:20240214T213000
DTSTAMP:20260424T201925
CREATED:20240115T191833Z
LAST-MODIFIED:20240122T182711Z
UID:6507-1707937200-1707946200@airbouzband.fr
SUMMARY:Soirée thématique - Faire ma prévi météo et aérologique
DESCRIPTION:Dom te donne rendez-vous le mercredi 14 février à 19h00 à la mairie d’Aubière (salle Murat – sonner à l’interphone). \nPour la bonne organisation de cette soirée\, merci de t’inscrire en cliquant ici.
URL:http://airbouzband.fr/eventsabbs/soiree-thematique-faire-ma-previ-meteo-et-aerologique/
LOCATION:Mairie Aubière\, Place de l'hôtel de Ville\, Aubière\, 63170\, France
CATEGORIES:Soirée à thème
ATTACH;FMTTYPE=image/jpeg:http://airbouzband.fr/wp-content/uploads/2024/01/Soiree-thematique-14.02.2024-1-e1705948017346.jpg
END:VEVENT
END:VCALENDAR